BEGIN:VCALENDAR
VERSION:2.0
PRODID:-//Plenty! - ECPv6.15.20//NONSGML v1.0//EN
CALSCALE:GREGORIAN
METHOD:PUBLISH
X-WR-CALNAME:Plenty!
X-ORIGINAL-URL:https://plentyfoodpantry.org
X-WR-CALDESC:Events for Plenty!
REFRESH-INTERVAL;VALUE=DURATION:PT1H
X-Robots-Tag:noindex
X-PUBLISHED-TTL:PT1H
BEGIN:VTIMEZONE
TZID:UTC
BEGIN:STANDARD
TZOFFSETFROM:+0000
TZOFFSETTO:+0000
TZNAME:UTC
DTSTART:20240101T000000
END:STANDARD
END:VTIMEZONE
BEGIN:VEVENT
DTSTART;TZID=UTC:20250526T080000
DTEND;TZID=UTC:20250526T170000
DTSTAMP:20260419T230914
CREATED:20250508T150806Z
LAST-MODIFIED:20250508T150806Z
UID:10001065-1748246400-1748278800@plentyfoodpantry.org
SUMMARY:Plenty! Closed
DESCRIPTION:Memorial Day Closure Notice\n\n\nPlenty! will be closed on Monday\, May 26th\, in observance of Memorial Day. Our pantry will resume regular operations on Tuesday\, May 27th.\n\n\nWe wish you a safe and meaningful holiday and look forward to serving you when we reopen.
URL:https://plentyfoodpantry.org/event/plenty-closed-6/
ATTACH;FMTTYPE=image/jpeg:https://plentyfoodpantry.org/wp-content/uploads/2025/05/494714390_1125115129648363_1330816510527892084_n.jpg
END:VEVENT
END:VCALENDAR