BEGIN:VCALENDAR
VERSION:2.0
PRODID:-//Plenty! - ECPv6.15.20//NONSGML v1.0//EN
CALSCALE:GREGORIAN
METHOD:PUBLISH
X-WR-CALNAME:Plenty!
X-ORIGINAL-URL:https://plentyfoodpantry.org
X-WR-CALDESC:Events for Plenty!
REFRESH-INTERVAL;VALUE=DURATION:PT1H
X-Robots-Tag:noindex
X-PUBLISHED-TTL:PT1H
BEGIN:VTIMEZONE
TZID:UTC
BEGIN:STANDARD
TZOFFSETFROM:+0000
TZOFFSETTO:+0000
TZNAME:UTC
DTSTART:20240101T000000
END:STANDARD
END:VTIMEZONE
BEGIN:VEVENT
DTSTART;TZID=UTC:20250528T120000
DTEND;TZID=UTC:20250528T130000
DTSTAMP:20260419T193904
CREATED:20250401T134416Z
LAST-MODIFIED:20250401T134416Z
UID:10001045-1748433600-1748437200@plentyfoodpantry.org
SUMMARY:Smart Money Moves: Financial Planning and Charitable Giving Workshop
DESCRIPTION:Join us on May 28th from Noon to 1PM to learn more about charitable giving with David Cross from Edward Jones.
URL:https://plentyfoodpantry.org/event/smart-money-moves-financial-planning-and-charitable-giving-workshop/
ATTACH;FMTTYPE=image/png:https://plentyfoodpantry.org/wp-content/uploads/2025/04/Blue-Yellow-Bold-Donate-Your-Money-Instagram-Story.png
END:VEVENT
END:VCALENDAR