BEGIN:VCALENDAR
VERSION:2.0
PRODID:-//Plenty! - ECPv6.15.20//NONSGML v1.0//EN
CALSCALE:GREGORIAN
METHOD:PUBLISH
X-ORIGINAL-URL:https://plentyfoodpantry.org
X-WR-CALDESC:Events for Plenty!
REFRESH-INTERVAL;VALUE=DURATION:PT1H
X-Robots-Tag:noindex
X-PUBLISHED-TTL:PT1H
BEGIN:VTIMEZONE
TZID:UTC
BEGIN:STANDARD
TZOFFSETFROM:+0000
TZOFFSETTO:+0000
TZNAME:UTC
DTSTART:20260101T000000
END:STANDARD
END:VTIMEZONE
BEGIN:VEVENT
DTSTART;TZID=UTC:20271004T130000
DTEND;TZID=UTC:20271004T160000
DTSTAMP:20260419T220056
CREATED:20240210T225231Z
LAST-MODIFIED:20240210T225231Z
UID:10000456-1822654800-1822665600@plentyfoodpantry.org
SUMMARY:Plenty! Food Bank
DESCRIPTION:Drive-Thru Pantry Service operates three times a week at Plenty! Farm & Foodbank. \nFamilies and residents who live in Floyd County can come to the Food Pantry once a week to pick up free food to feed themselves and their family. We offer a variety of fresh and healthy food options such as locally grown fruits and vegetables\, meat\, dairy\, bread\, eggs\, and even pet food!  There are no financial requirements for our Food Pantry other than being a Floyd County resident. If you are a non-Floyd resident in need of food assistance\, refer to the NRV Food Assistance Directory. \nNo Transportation? Floyd County Residents \nIf you live in Floyd County and do not have transportation\, just give us a call at 540-745-3898 dial 2 or dial ext. 514 and a member of our staff will help you determine which of our programs is the best pantry alternative for you.
URL:https://plentyfoodpantry.org/event/plenty-food-bank-2/2027-10-04/
CATEGORIES:Pantry
ATTACH;FMTTYPE=image/jpeg:https://plentyfoodpantry.org/wp-content/uploads/2024/01/PlentyFoodBank.jpg
END:VEVENT
BEGIN:VEVENT
DTSTART;TZID=UTC:20271005T100000
DTEND;TZID=UTC:20271005T130000
DTSTAMP:20260419T220056
CREATED:20240116T182000Z
LAST-MODIFIED:20240210T224947Z
UID:10000195-1822730400-1822741200@plentyfoodpantry.org
SUMMARY:Plenty! Food Bank
DESCRIPTION:Drive-Thru Pantry Service operates three times a week at Plenty! Farm & Foodbank. \nFamilies and residents who live in Floyd County can come to the Food Pantry once a week to pick up free food to feed themselves and their family. We offer a variety of fresh and healthy food options such as locally grown fruits and vegetables\, meat\, dairy\, bread\, eggs\, and even pet food!  There are no financial requirements for our Food Pantry other than being a Floyd County resident. If you are a non-Floyd resident in need of food assistance\, refer to the NRV Food Assistance Directory. \nNo Transportation? Floyd County Residents \nIf you live in Floyd County and do not have transportation\, just give us a call at 540-745-3898 dial 2 or dial ext. 514 and a member of our staff will help you determine which of our programs is the best pantry alternative for you. 
URL:https://plentyfoodpantry.org/event/plenty-food-bank/2027-10-05/
LOCATION:Plenty!\, 192 Elephant Curve Road\, Floyd\, VA\, 24091\, United States
CATEGORIES:Pantry
ATTACH;FMTTYPE=image/jpeg:https://plentyfoodpantry.org/wp-content/uploads/2024/01/PlentyFoodBank.jpg
END:VEVENT
BEGIN:VEVENT
DTSTART;TZID=UTC:20271007T160000
DTEND;TZID=UTC:20271007T183000
DTSTAMP:20260419T220056
CREATED:20240210T225408Z
LAST-MODIFIED:20240210T225408Z
UID:10000717-1822924800-1822933800@plentyfoodpantry.org
SUMMARY:Plenty! Food Bank
DESCRIPTION:Drive-Thru Pantry Service operates three times a week at Plenty! Farm & Foodbank. \nFamilies and residents who live in Floyd County can come to the Food Pantry once a week to pick up free food to feed themselves and their family. We offer a variety of fresh and healthy food options such as locally grown fruits and vegetables\, meat\, dairy\, bread\, eggs\, and even pet food!  There are no financial requirements for our Food Pantry other than being a Floyd County resident. If you are a non-Floyd resident in need of food assistance\, refer to the NRV Food Assistance Directory. \nNo Transportation? Floyd County Residents \nIf you live in Floyd County and do not have transportation\, just give us a call at 540-745-3898 dial 2 or dial ext. 514 and a member of our staff will help you determine which of our programs is the best pantry alternative for you.
URL:https://plentyfoodpantry.org/event/plenty-food-bank-3/2027-10-07/
CATEGORIES:Pantry
ATTACH;FMTTYPE=image/jpeg:https://plentyfoodpantry.org/wp-content/uploads/2024/01/PlentyFoodBank.jpg
END:VEVENT
BEGIN:VEVENT
DTSTART;TZID=UTC:20271011T130000
DTEND;TZID=UTC:20271011T160000
DTSTAMP:20260419T220056
CREATED:20240210T225231Z
LAST-MODIFIED:20240210T225231Z
UID:10000457-1823259600-1823270400@plentyfoodpantry.org
SUMMARY:Plenty! Food Bank
DESCRIPTION:Drive-Thru Pantry Service operates three times a week at Plenty! Farm & Foodbank. \nFamilies and residents who live in Floyd County can come to the Food Pantry once a week to pick up free food to feed themselves and their family. We offer a variety of fresh and healthy food options such as locally grown fruits and vegetables\, meat\, dairy\, bread\, eggs\, and even pet food!  There are no financial requirements for our Food Pantry other than being a Floyd County resident. If you are a non-Floyd resident in need of food assistance\, refer to the NRV Food Assistance Directory. \nNo Transportation? Floyd County Residents \nIf you live in Floyd County and do not have transportation\, just give us a call at 540-745-3898 dial 2 or dial ext. 514 and a member of our staff will help you determine which of our programs is the best pantry alternative for you.
URL:https://plentyfoodpantry.org/event/plenty-food-bank-2/2027-10-11/
CATEGORIES:Pantry
ATTACH;FMTTYPE=image/jpeg:https://plentyfoodpantry.org/wp-content/uploads/2024/01/PlentyFoodBank.jpg
END:VEVENT
BEGIN:VEVENT
DTSTART;TZID=UTC:20271012T100000
DTEND;TZID=UTC:20271012T130000
DTSTAMP:20260419T220056
CREATED:20240116T182000Z
LAST-MODIFIED:20240210T224947Z
UID:10000196-1823335200-1823346000@plentyfoodpantry.org
SUMMARY:Plenty! Food Bank
DESCRIPTION:Drive-Thru Pantry Service operates three times a week at Plenty! Farm & Foodbank. \nFamilies and residents who live in Floyd County can come to the Food Pantry once a week to pick up free food to feed themselves and their family. We offer a variety of fresh and healthy food options such as locally grown fruits and vegetables\, meat\, dairy\, bread\, eggs\, and even pet food!  There are no financial requirements for our Food Pantry other than being a Floyd County resident. If you are a non-Floyd resident in need of food assistance\, refer to the NRV Food Assistance Directory. \nNo Transportation? Floyd County Residents \nIf you live in Floyd County and do not have transportation\, just give us a call at 540-745-3898 dial 2 or dial ext. 514 and a member of our staff will help you determine which of our programs is the best pantry alternative for you. 
URL:https://plentyfoodpantry.org/event/plenty-food-bank/2027-10-12/
LOCATION:Plenty!\, 192 Elephant Curve Road\, Floyd\, VA\, 24091\, United States
CATEGORIES:Pantry
ATTACH;FMTTYPE=image/jpeg:https://plentyfoodpantry.org/wp-content/uploads/2024/01/PlentyFoodBank.jpg
END:VEVENT
BEGIN:VEVENT
DTSTART;TZID=UTC:20271014T160000
DTEND;TZID=UTC:20271014T183000
DTSTAMP:20260419T220056
CREATED:20240210T225408Z
LAST-MODIFIED:20240210T225408Z
UID:10000718-1823529600-1823538600@plentyfoodpantry.org
SUMMARY:Plenty! Food Bank
DESCRIPTION:Drive-Thru Pantry Service operates three times a week at Plenty! Farm & Foodbank. \nFamilies and residents who live in Floyd County can come to the Food Pantry once a week to pick up free food to feed themselves and their family. We offer a variety of fresh and healthy food options such as locally grown fruits and vegetables\, meat\, dairy\, bread\, eggs\, and even pet food!  There are no financial requirements for our Food Pantry other than being a Floyd County resident. If you are a non-Floyd resident in need of food assistance\, refer to the NRV Food Assistance Directory. \nNo Transportation? Floyd County Residents \nIf you live in Floyd County and do not have transportation\, just give us a call at 540-745-3898 dial 2 or dial ext. 514 and a member of our staff will help you determine which of our programs is the best pantry alternative for you.
URL:https://plentyfoodpantry.org/event/plenty-food-bank-3/2027-10-14/
CATEGORIES:Pantry
ATTACH;FMTTYPE=image/jpeg:https://plentyfoodpantry.org/wp-content/uploads/2024/01/PlentyFoodBank.jpg
END:VEVENT
BEGIN:VEVENT
DTSTART;TZID=UTC:20271018T130000
DTEND;TZID=UTC:20271018T160000
DTSTAMP:20260419T220056
CREATED:20240210T225231Z
LAST-MODIFIED:20240210T225231Z
UID:10000458-1823864400-1823875200@plentyfoodpantry.org
SUMMARY:Plenty! Food Bank
DESCRIPTION:Drive-Thru Pantry Service operates three times a week at Plenty! Farm & Foodbank. \nFamilies and residents who live in Floyd County can come to the Food Pantry once a week to pick up free food to feed themselves and their family. We offer a variety of fresh and healthy food options such as locally grown fruits and vegetables\, meat\, dairy\, bread\, eggs\, and even pet food!  There are no financial requirements for our Food Pantry other than being a Floyd County resident. If you are a non-Floyd resident in need of food assistance\, refer to the NRV Food Assistance Directory. \nNo Transportation? Floyd County Residents \nIf you live in Floyd County and do not have transportation\, just give us a call at 540-745-3898 dial 2 or dial ext. 514 and a member of our staff will help you determine which of our programs is the best pantry alternative for you.
URL:https://plentyfoodpantry.org/event/plenty-food-bank-2/2027-10-18/
CATEGORIES:Pantry
ATTACH;FMTTYPE=image/jpeg:https://plentyfoodpantry.org/wp-content/uploads/2024/01/PlentyFoodBank.jpg
END:VEVENT
BEGIN:VEVENT
DTSTART;TZID=UTC:20271019T100000
DTEND;TZID=UTC:20271019T130000
DTSTAMP:20260419T220056
CREATED:20240116T182000Z
LAST-MODIFIED:20240210T224947Z
UID:10000197-1823940000-1823950800@plentyfoodpantry.org
SUMMARY:Plenty! Food Bank
DESCRIPTION:Drive-Thru Pantry Service operates three times a week at Plenty! Farm & Foodbank. \nFamilies and residents who live in Floyd County can come to the Food Pantry once a week to pick up free food to feed themselves and their family. We offer a variety of fresh and healthy food options such as locally grown fruits and vegetables\, meat\, dairy\, bread\, eggs\, and even pet food!  There are no financial requirements for our Food Pantry other than being a Floyd County resident. If you are a non-Floyd resident in need of food assistance\, refer to the NRV Food Assistance Directory. \nNo Transportation? Floyd County Residents \nIf you live in Floyd County and do not have transportation\, just give us a call at 540-745-3898 dial 2 or dial ext. 514 and a member of our staff will help you determine which of our programs is the best pantry alternative for you. 
URL:https://plentyfoodpantry.org/event/plenty-food-bank/2027-10-19/
LOCATION:Plenty!\, 192 Elephant Curve Road\, Floyd\, VA\, 24091\, United States
CATEGORIES:Pantry
ATTACH;FMTTYPE=image/jpeg:https://plentyfoodpantry.org/wp-content/uploads/2024/01/PlentyFoodBank.jpg
END:VEVENT
BEGIN:VEVENT
DTSTART;TZID=UTC:20271021T160000
DTEND;TZID=UTC:20271021T183000
DTSTAMP:20260419T220056
CREATED:20240210T225408Z
LAST-MODIFIED:20240210T225408Z
UID:10000719-1824134400-1824143400@plentyfoodpantry.org
SUMMARY:Plenty! Food Bank
DESCRIPTION:Drive-Thru Pantry Service operates three times a week at Plenty! Farm & Foodbank. \nFamilies and residents who live in Floyd County can come to the Food Pantry once a week to pick up free food to feed themselves and their family. We offer a variety of fresh and healthy food options such as locally grown fruits and vegetables\, meat\, dairy\, bread\, eggs\, and even pet food!  There are no financial requirements for our Food Pantry other than being a Floyd County resident. If you are a non-Floyd resident in need of food assistance\, refer to the NRV Food Assistance Directory. \nNo Transportation? Floyd County Residents \nIf you live in Floyd County and do not have transportation\, just give us a call at 540-745-3898 dial 2 or dial ext. 514 and a member of our staff will help you determine which of our programs is the best pantry alternative for you.
URL:https://plentyfoodpantry.org/event/plenty-food-bank-3/2027-10-21/
CATEGORIES:Pantry
ATTACH;FMTTYPE=image/jpeg:https://plentyfoodpantry.org/wp-content/uploads/2024/01/PlentyFoodBank.jpg
END:VEVENT
BEGIN:VEVENT
DTSTART;TZID=UTC:20271025T130000
DTEND;TZID=UTC:20271025T160000
DTSTAMP:20260419T220056
CREATED:20240210T225231Z
LAST-MODIFIED:20240210T225231Z
UID:10000459-1824469200-1824480000@plentyfoodpantry.org
SUMMARY:Plenty! Food Bank
DESCRIPTION:Drive-Thru Pantry Service operates three times a week at Plenty! Farm & Foodbank. \nFamilies and residents who live in Floyd County can come to the Food Pantry once a week to pick up free food to feed themselves and their family. We offer a variety of fresh and healthy food options such as locally grown fruits and vegetables\, meat\, dairy\, bread\, eggs\, and even pet food!  There are no financial requirements for our Food Pantry other than being a Floyd County resident. If you are a non-Floyd resident in need of food assistance\, refer to the NRV Food Assistance Directory. \nNo Transportation? Floyd County Residents \nIf you live in Floyd County and do not have transportation\, just give us a call at 540-745-3898 dial 2 or dial ext. 514 and a member of our staff will help you determine which of our programs is the best pantry alternative for you.
URL:https://plentyfoodpantry.org/event/plenty-food-bank-2/2027-10-25/
CATEGORIES:Pantry
ATTACH;FMTTYPE=image/jpeg:https://plentyfoodpantry.org/wp-content/uploads/2024/01/PlentyFoodBank.jpg
END:VEVENT
BEGIN:VEVENT
DTSTART;TZID=UTC:20271026T100000
DTEND;TZID=UTC:20271026T130000
DTSTAMP:20260419T220056
CREATED:20240116T182000Z
LAST-MODIFIED:20240210T224947Z
UID:10000198-1824544800-1824555600@plentyfoodpantry.org
SUMMARY:Plenty! Food Bank
DESCRIPTION:Drive-Thru Pantry Service operates three times a week at Plenty! Farm & Foodbank. \nFamilies and residents who live in Floyd County can come to the Food Pantry once a week to pick up free food to feed themselves and their family. We offer a variety of fresh and healthy food options such as locally grown fruits and vegetables\, meat\, dairy\, bread\, eggs\, and even pet food!  There are no financial requirements for our Food Pantry other than being a Floyd County resident. If you are a non-Floyd resident in need of food assistance\, refer to the NRV Food Assistance Directory. \nNo Transportation? Floyd County Residents \nIf you live in Floyd County and do not have transportation\, just give us a call at 540-745-3898 dial 2 or dial ext. 514 and a member of our staff will help you determine which of our programs is the best pantry alternative for you. 
URL:https://plentyfoodpantry.org/event/plenty-food-bank/2027-10-26/
LOCATION:Plenty!\, 192 Elephant Curve Road\, Floyd\, VA\, 24091\, United States
CATEGORIES:Pantry
ATTACH;FMTTYPE=image/jpeg:https://plentyfoodpantry.org/wp-content/uploads/2024/01/PlentyFoodBank.jpg
END:VEVENT
BEGIN:VEVENT
DTSTART;TZID=UTC:20271028T160000
DTEND;TZID=UTC:20271028T183000
DTSTAMP:20260419T220056
CREATED:20240210T225408Z
LAST-MODIFIED:20240210T225408Z
UID:10000720-1824739200-1824748200@plentyfoodpantry.org
SUMMARY:Plenty! Food Bank
DESCRIPTION:Drive-Thru Pantry Service operates three times a week at Plenty! Farm & Foodbank. \nFamilies and residents who live in Floyd County can come to the Food Pantry once a week to pick up free food to feed themselves and their family. We offer a variety of fresh and healthy food options such as locally grown fruits and vegetables\, meat\, dairy\, bread\, eggs\, and even pet food!  There are no financial requirements for our Food Pantry other than being a Floyd County resident. If you are a non-Floyd resident in need of food assistance\, refer to the NRV Food Assistance Directory. \nNo Transportation? Floyd County Residents \nIf you live in Floyd County and do not have transportation\, just give us a call at 540-745-3898 dial 2 or dial ext. 514 and a member of our staff will help you determine which of our programs is the best pantry alternative for you.
URL:https://plentyfoodpantry.org/event/plenty-food-bank-3/2027-10-28/
CATEGORIES:Pantry
ATTACH;FMTTYPE=image/jpeg:https://plentyfoodpantry.org/wp-content/uploads/2024/01/PlentyFoodBank.jpg
END:VEVENT
END:VCALENDAR